BEGIN:VCALENDAR
VERSION:2.0
X-WR-CALNAME:www.indybay.org
PRODID:-//indybay/ical// v1.0//EN
BEGIN:VEVENT
UID:Indybay-18872168
SEQUENCE:19043224
CREATED:20250113T212300Z
DESCRIPTION:Arcata, California: A march departing from Arcata Plaza at noon—against 
 Donald Trump, in solidarity with Palestine, and in memory of 
 Tortuguita.\n\nMarch from Arcata Plaza to CPH\n\nFuck Trump\nFree 
 Palestine\nViva Tortuguita\n\nMasks encouraged. March for mourning, wear 
 black.\n\nFor the Palestinian martyrs, for murdered forest defender 
 Tortuguita, and all those fallen by imperialism.\n 
 https://www.indybay.org/newsitems/2025/01/13/18872168.php
SUMMARY:March in Arcata: Fuck Trump, Free Palestine, Viva Tortuguita
LOCATION:Arcata Plaza
URL:https://www.indybay.org/newsitems/2025/01/13/18872168.php
DTSTART:20250121T200000Z
DTEND:20250121T230000Z
END:VEVENT
END:VCALENDAR
