BEGIN:VCALENDAR
VERSION:2.0
X-WR-CALNAME:www.indybay.org
PRODID:-//indybay/ical// v1.0//EN
BEGIN:VEVENT
UID:Indybay-18872099
SEQUENCE:19043115
CREATED:20250111T171900Z
DESCRIPTION:PEOPLE'S MARCH - Democracy, Justice & Freedom\n\nWE’RE NOT GOING 
 BACKWARDS! UNITED, WE MARCH FORWARD TOGETHER!\n\n"Injustice anywhere is a 
 threat to justice everywhere." -- Rev. Dr. Martin Luther King, Jr. 
 \n\nWhen: Jan. 18 @ 11 AM lining up, noon march\nRev. Dr. Martin Luther 
 King, Jr. weekend & a weekend of action before Presidential inauguration 
 \n\n#PeoplesMarch\n#OurFreedomsOurFutures\n\n\nWe all march for different 
 reasons, but we march for the same cause: to defend our rights and our 
 future.\n\nIf you believe that decisions about your body should remain 
 yours, that books belong in libraries, not on bonfires, that healthcare is 
 a right, not a privilege for the wealthy; if you believe in the power of 
 free speech and protest to sustain democracy; or if you want an economy 
 that works for the people who power it—then this march is for you.\n\nThe 
 People’s March is about one thing: our power.\n\nIt’s a bold 
 demonstration of the resilience of resistance.\n\nWe may have dark days 
 ahead, but we will always work to protect our freedoms, our families, and 
 our communities. We deserve a brighter future and we will continue to work 
 for it.\n\nWe are worth fighting for. Our families and futures are worth 
 fighting for.\n\nTogether, we KEEP MARCHING.\n\n\nMARCH ROUTE:\n\nThe 
 previously posted Civic Center march is now marching in solidarity and 
 partnership with the efforts of the Immigration Rights group in The 
 Mission. While this is a multi-issue focused moment, we have decided to 
 combine our efforts in The Mission by marching to Dolores Park where a full 
 rally will be held to keep our energy up as we head into a new era of 
 administration.\n    \nLineup will start at 11:00 AM at 24th St and Bryant 
 St in THE MISSION\n\nMarch is set to step off at 12:00 PM SHARP from 24th 
 and Bryant\n\nRoute: \n24th & Bryant\n24th & Mission 16th & Mission \n16th 
 & Valencia\n18th & Valencia\n18th & Dolores\nRally will take place at 
 Dolores Park\n\n\nVOLUNTEERS\nWe are asking for volunteer Peace Ambassadors 
 to support this community event, and help ensure a safe and meaningful 
 march for all.\n\nIf you are interested in volunteering, please sign up 
 at:\nhttps://docs.google.com/forms/d/e/1FAIpQLSeVK_ZWa7AxAERuQCv2j49oLWvHFOzFtzjK8pxuoZR63v0iNQ/viewform?usp=sharing\n\n\nADDITIONAL 
 DETAILS\n\n    Masks Highly Recommended\n    This is a 1st Amendment March, 
 no host is liable, march at your own risk\n    Bring your family, friends, 
 signs, water, snacks, mask, hand sanitizer, put on some sunscreen, check 
 the weather and dress with layers, a hat and comfy shoes.\n    All ages, 
 and genders (& GNC) are welcome\n    Signs and bullhorns are welcomed\n    
 March will happen Rain or Shine\n\n\nThis march is part of the PEOPLE'S 
 MARCH nationwide weekend of action before & day of the Presidential 
 inauguration to demand democracy, freedom, justice and compassion for all 
 people everywhere: https://www.peoplesmarch.com/\n\n 
 https://www.indybay.org/newsitems/2025/01/11/18872099.php
SUMMARY:People's March San Francisco
LOCATION:Intersection of 24th St and Bryant St (The Mission)\nSan Francisco, CA, 
 94110\n\nThen we march to Dolores Park for rally\n\nSign up here for 
 updates: 
 https://map.peoplesmarch.com/events/san-francisco-is-marching-forward
URL:https://www.indybay.org/newsitems/2025/01/11/18872099.php
DTSTART:20250118T190000Z
DTEND:20250118T190000Z
END:VEVENT
END:VCALENDAR
