BEGIN:VCALENDAR
VERSION:2.0
X-WR-CALNAME:www.indybay.org
PRODID:-//indybay/ical// v1.0//EN
BEGIN:VEVENT
UID:Indybay-18871329
SEQUENCE:19041988
CREATED:20241208T174200Z
DESCRIPTION:A weekly broadcast covering news and analysis on the genocide in Gaza and 
 ways to plug into solidarity work for Palestine.\n 
 https://www.indybay.org/newsitems/2024/12/08/18871329.php
SUMMARY:Webinar: Palestine Solidarity Announcements
LOCATION:Zoom\nhttps://bit.ly/FridayPSAs
URL:https://www.indybay.org/newsitems/2024/12/08/18871329.php
DTSTART:20250103T200000Z
DTEND:20250103T210000Z
END:VEVENT
END:VCALENDAR
