BEGIN:VCALENDAR
VERSION:2.0
X-WR-CALNAME:www.indybay.org
PRODID:-//indybay/ical// v1.0//EN
BEGIN:VEVENT
UID:Indybay-18871150
SEQUENCE:19041736
CREATED:20241201T031200Z
DESCRIPTION:A weekly broadcast covering news and analysis on the genocide in Gaza and 
 ways to plug into solidarity work for Palestine.\n 
 https://www.indybay.org/newsitems/2024/11/30/18871150.php
SUMMARY:Webinar: Palestine Solidarity Announcements
LOCATION:Zoom\nhttps://bit.ly/FridayPSAs\n
URL:https://www.indybay.org/newsitems/2024/11/30/18871150.php
DTSTART:20241206T200000Z
DTEND:20241206T210000Z
END:VEVENT
END:VCALENDAR
