BEGIN:VCALENDAR
VERSION:2.0
X-WR-CALNAME:www.indybay.org
PRODID:-//indybay/ical// v1.0//EN
BEGIN:VEVENT
UID:Indybay-18870357
SEQUENCE:19040656
CREATED:20241031T024500Z
DESCRIPTION:Join us again at Heyma Coffee on Sunday, November 3 from 12:00pm to 2:30pm. 
 We'll tell presidential candidate Kamala Harris and members of Congress 
 that they must end their complicity in Israel’s extermination of 
 Palestinians in Gaza and ongoing assault in the West Bank. We'll demand the 
 complete halt of financial and military assistance to the genocidal Zionist 
 regime; the unimpeded flow of humanitarian aid to Gaza; a permanent and 
 immediate ceasefire; the release of Palestinian and Israeli hostages; the 
 cease of settlement expansion and settlers/IOF crimes against Palestinians 
 in the West Bank; and the end of Israel's illegal military occupation of 
 the Palestinian Territories. Scripts, addresses, stamps, and postcards will 
 be provided.\n https://www.indybay.org/newsitems/2024/10/30/18870357.php
SUMMARY:Ceasefire Postcards Pop Up
LOCATION:Heyma Yemeni Coffee, 1122 University Ave.
URL:https://www.indybay.org/newsitems/2024/10/30/18870357.php
DTSTART:20241103T200000Z
DTEND:20241103T223000Z
END:VEVENT
END:VCALENDAR
