BEGIN:VCALENDAR
VERSION:2.0
X-WR-CALNAME:www.indybay.org
PRODID:-//indybay/ical// v1.0//EN
BEGIN:VEVENT
UID:Indybay-18870334
SEQUENCE:19040588
CREATED:20241029T174900Z
DESCRIPTION:Join us for relaxation and enjoy our new class YOGA FOR ACTIVISTS with 
 Sharat Lin, RYT (Registered Yoga Teacher) at the San José Peace and 
 Justice Center.\n\nEvery Sunday at 9:15 am in November and 
 December!\n\nBurnout and lack of attention to self-care is a common problem 
 among social justice activists. So we created this class to reach out to 
 activists to take back some time and increase awareness for 
 self-care!\n\nMeditation\nBreathing\nAsana\nFlow\nCreative Movement\n\nALL 
 LEVELS WELCOME!\nPlease bring a yoga mat (if you have one) & water 
 bottle\nDonation based\n\nCheck calandar for scheduling updates: 
 https://sanjosepeace.org/calendar/\n\nSponsored by the San José Peace and 
 Justice Center\n https://www.indybay.org/newsitems/2024/10/29/18870334.php
SUMMARY:Yoga for Activists
LOCATION:San José Peace & Justice Center\n48 South 7th Street, Room 101\nSan José, 
 CA 95112
URL:https://www.indybay.org/newsitems/2024/10/29/18870334.php
DTSTART:20241103T171500Z
DTEND:20241103T181500Z
END:VEVENT
END:VCALENDAR
