BEGIN:VCALENDAR
VERSION:2.0
X-WR-CALNAME:www.indybay.org
PRODID:-//indybay/ical// v1.0//EN
BEGIN:VEVENT
UID:Indybay-18870204
SEQUENCE:19040400
CREATED:20241024T231500Z
DESCRIPTION:A weekly broadcast covering news and analysis on the genocide in Gaza and 
 ways to plug into solidarity work for Palestine. \n 
 https://www.indybay.org/newsitems/2024/10/24/18870204.php
SUMMARY:Webinar: Palestine Solidarity Announcements
LOCATION:Zoom\nhttps://bit.ly/FridayPSAs
URL:https://www.indybay.org/newsitems/2024/10/24/18870204.php
DTSTART:20241101T190000Z
DTEND:20241101T200000Z
END:VEVENT
END:VCALENDAR
