BEGIN:VCALENDAR
VERSION:2.0
X-WR-CALNAME:www.indybay.org
PRODID:-//indybay/ical// v1.0//EN
BEGIN:VEVENT
UID:Indybay-18870032
SEQUENCE:19040303
CREATED:20241016T201500Z
DESCRIPTION:Join us for a day of fun, sun, music, and awesome plant-based food! Join us 
 in Richmond for the best vegan pop up market in the East Bay. Your purchase 
 supports local business and animal rescue! Buy from East Bay chefs serving 
 delicious and sustainable plant-based plates. 10% of your purchase purchase 
 goes to Jelly’s Place, an East Bay animal rescue. The pop up market is at 
 Exit Now, right next to 7 Stars and across the street from the Pacific East 
 Mall. Made possible with support from 7 Stars Holistic Healing Center. \n 
 https://www.indybay.org/newsitems/2024/10/16/18870032.php
SUMMARY:Vegan Pop Up Market at Exit Now
LOCATION:3223 Pierce Street, Richmond, CA 94804
URL:https://www.indybay.org/newsitems/2024/10/16/18870032.php
DTSTART:20241027T190000Z
DTEND:20241028T000000Z
END:VEVENT
END:VCALENDAR
