BEGIN:VCALENDAR
VERSION:2.0
X-WR-CALNAME:www.indybay.org
PRODID:-//indybay/ical// v1.0//EN
BEGIN:VEVENT
UID:Indybay-18869147
SEQUENCE:19038927
CREATED:20240906T062300Z
DESCRIPTION:Join us again at Heyma Coffee on Saturday, September 9/7/24 from 4:30pm to 
 6:30pm.\n\nWe'll tell presidential candidate Kamala Harris and members of 
 Congress that, if they want our vote, they must end their complicity in 
 Israel’s extermination of Palestinians in Gaza and ongoing assault in the 
 West Bank. We'll demand the complete halt of financial and military 
 assistance to the genocidal Zionist regime; the unimpeded flow of 
 humanitarian aid to Gaza; a permanent and immediate ceasefire; the release 
 of Palestinian and Israeli hostages; the cease of settlement expansion and 
 settlers/IOF crimes against Palestinians in the West Bank; and the end of 
 Israel's illegal military occupation of the Palestinian Territories. We 
 will also write to key State Dept officials to call out their complicity 
 with the genocide and to demand they stop sending weapons to Israel. 
 Scripts, addresses, stamps, and postcards will be provided.\n\nWe must 
 increase the pressure on elected officials to stop the genocide in Gaza and 
 settler/IOF violence in the West Bank. Write postcards with us; call 
 Congress from home; join local actions; sign petitions; contribute to 
 mutual aid groups; support ngos on the ground; donate to candidates' 
 campaigns who are calling for a ceasefire. We’re in this together for the 
 long haul to end Israel’s illegal occupation of Palestine.\n\n\n*** We 
 have been hosting this pop-up almost every weekend since December. At this 
 time, we kindly ask for donations to buy stamps and postcards, as it is 
 getting costly on our end. Another option is to bring your own stamps and 
 postcards.\n https://www.indybay.org/newsitems/2024/09/05/18869147.php
SUMMARY:Ceasefire Postcards Pop-Up
LOCATION:1122 University Ave, Berkeley CA
URL:https://www.indybay.org/newsitems/2024/09/05/18869147.php
DTSTART:20240907T233000Z
DTEND:20240908T013000Z
END:VEVENT
END:VCALENDAR
