BEGIN:VCALENDAR
VERSION:2.0
X-WR-CALNAME:www.indybay.org
PRODID:-//indybay/ical// v1.0//EN
BEGIN:VEVENT
UID:Indybay-18868707
SEQUENCE:19038321
CREATED:20240815T160500Z
DESCRIPTION:"From Russia with Lev": Film & Panel on Trump Impeachment \n\nIN PERSON 
 SPEAKERS:  \n\nExecutive Producer Rachel Maddow\nDirector Billy 
 Corben\nProducer Alfred Spellman \n\nTickets (senior & EBT card pricing 
 available): https://roxie.com/film/from-russia-with-lev/\n \nAbout: "From 
 Russia with Lev"\n\nFrom Executive Producer Rachel Maddow and Director 
 Billy Corben, “From Russia With Lev” reveals the outrageous scheme that 
 led to former President Donald Trump’s first impeachment. \n\nIt follows 
 the much, much larger-than-life journey of Lev Parnas, a Ukrainian-born 
 hustler and former small-time mafia operator whose random, almost 
 accidental association with Trump and Trump attorney Rudolph Giuliani took 
 him around the world, and ultimately to prison. Lev reveals the ham-handed 
 workings of the furtive campaign to dredge up false but damaging 
 allegations against then-candidate Joe Biden.\n\nRachael Maddow is a SF Bay 
 Area native raised in Castro Valley and graduate of Stanford University in 
 Santa Clara county, South Bay.\n\n 
 https://www.indybay.org/newsitems/2024/08/15/18868707.php
SUMMARY:"From Russia with Lev": Film & Panel on Trump Impeachment w/ Producer, Rachael Maddow
LOCATION:Roxie Cinema\n3117 16th Street\nSan Francisco, CA 94103
URL:https://www.indybay.org/newsitems/2024/08/15/18868707.php
DTSTART:20240914T013000Z
DTEND:20240914T033000Z
END:VEVENT
END:VCALENDAR
