BEGIN:VCALENDAR
VERSION:2.0
X-WR-CALNAME:www.indybay.org
PRODID:-//indybay/ical// v1.0//EN
BEGIN:VEVENT
UID:Indybay-18868340
SEQUENCE:19037854
CREATED:20240731T182400Z
DESCRIPTION:A time to express through our stories, art, music, and poetry our deepest 
 desires for peace and justice, while we shine the light of accountability 
 on Panetta’s support for violence in Gaza.\n \nDrop in when you can. 
 Workshops include:\n\nTim Fitzmaurice: Poetry Writing\nCaren Camblin: 
 Social Justice\nJean Morrison: Nonviolent Communication\nMichael Levy & 
 Rick Longinotti: Talking to Friends & Family about Israel/Palestine\nSee 
 workshop schedule at https://panetta-vigil.org \nInquiries: 
 info@panetta-vigil.org \n\n\nRep. Panetta Does Not Represent Us\n\n* Failed 
 to support a ceasefire in Gaza\n\nA large majority of the public has wanted 
 a ceasefire since the initial Israeli military response to the horrible 
 Hamas attack of October 7, 2023. According to a Data For Progress poll on 
 October 19, 2023, 80% of Democrats and 56% of Republicans agreed that 
 “The U.S. should call for a ceasefire.” in Gaza. For eight months Rep. 
 Panetta did not support a ceasefire.\n\n* Voted for $17 billion in military 
 aid to Israel in April 2024.\n\n* Denounced International Courts\n\nRep. 
 Panetta co-signed a letter to “express our disgust” with South 
 Africa’s filing of a "grossly unfounded case against Israel at the 
 International Court of Justice".\nPanetta voted to sanction International 
 Criminal Court officials, after they requested arrest warrants for 
 Netanyahu and three Hamas leaders.\n\n* Accepted large contributions from 
 arms manufacturers and AIPAC, the pro-Netanyahu lobby.\n\n 
 https://www.indybay.org/newsitems/2024/07/31/18868340.php
SUMMARY:Vigil for Peace at Panetta's Santa Cruz office (whole week)
LOCATION:Outside Rep. Jimmy Panetta's office; third floor, Santa Cruz County Bid. 
 701 Ocean Street
URL:https://www.indybay.org/newsitems/2024/07/31/18868340.php
DTSTART:20240806T170000Z
DTEND:20240806T210000Z
END:VEVENT
END:VCALENDAR
