BEGIN:VCALENDAR
VERSION:2.0
X-WR-CALNAME:www.indybay.org
PRODID:-//indybay/ical// v1.0//EN
BEGIN:VEVENT
UID:Indybay-18868316
SEQUENCE:19037811
CREATED:20240729T235700Z
DESCRIPTION:Come to stand against Genocide & for a Free Palestine.\n\nStop the 
 occupation and the ongoing genocide!\n\nBoycott Israel!\n 
 https://www.indybay.org/newsitems/2024/07/29/18868316.php
SUMMARY:Richmond Banner Drop and Peace Vigil - Free Palestine
LOCATION:San Luis Ave. & Sacramento Ave.  I-80 pedestrian overpass\nRichmond Annex 
 94804
URL:https://www.indybay.org/newsitems/2024/07/29/18868316.php
DTSTART:20240802T220000Z
DTEND:20240803T010000Z
END:VEVENT
END:VCALENDAR
