BEGIN:VCALENDAR
VERSION:2.0
X-WR-CALNAME:www.indybay.org
PRODID:-//indybay/ical// v1.0//EN
BEGIN:VEVENT
UID:Indybay-18868151
SEQUENCE:19037573
CREATED:20240722T165700Z
DESCRIPTION:Free Palestine banner drop\n\nStand for a Free Palestine and against 
 genocide!\n\nAll against genocide are welcome\n 
 https://www.indybay.org/newsitems/2024/07/22/18868151.php
SUMMARY:Richmond Banner Drop and Peace Vigil
LOCATION:San Luis Ave and Sacramento Ave, Richmond Annex. Richmond, Ca 94804
URL:https://www.indybay.org/newsitems/2024/07/22/18868151.php
DTSTART:20240726T220000Z
DTEND:20240727T010000Z
END:VEVENT
END:VCALENDAR
