BEGIN:VCALENDAR
VERSION:2.0
X-WR-CALNAME:www.indybay.org
PRODID:-//indybay/ical// v1.0//EN
BEGIN:VEVENT
UID:Indybay-18867542
SEQUENCE:19036757
CREATED:20240624T153500Z
DESCRIPTION:Four physicians who have recently participated in medical missions to Gaza 
 will present their eyewitness testimonies to provide policymakers with 
 firsthand testimonies and insight into the impacts of U.S. policy in the 
 region and the realities of the man-made catastrophe in Gaza. \n\nPanelists 
 will provide recommendations for time-sensitive tangible ways that Congress 
 can take action, starting with helping a 9-month-old baby girl in critical 
 need of a liver transplant.\n\nPanelists include: \n\nDr. Mark Perlmutter, 
 orthopedic & hand surgeon, President of World Surgical Foundation\n\nDr. 
 Adam Hamawy, plastic surgeon, ret. US Army combat surgeon who saved Senator 
 Duckworth’s life\n\nDr. Zena Saleh, general surgery resident with 
 clinical interest in trauma, critical care, global health\n\nDr. Feroze 
 Sidhwa, trauma and critical care surgeon with a Master’s in public health 
 \n\nMr. Josh Paul, Former Director in the State Department’s Bureau of 
 Political-Military Affairs\n\nhttps://www.rebuildingalliance.org/\n 
 https://www.indybay.org/newsitems/2024/06/24/18867542.php
SUMMARY:U.S. Doctors as Eyewitness Humanitarians Plead for Gaza - speakers panel
LOCATION:Zoom register here: 
 https://us02web.zoom.us/webinar/register/WN_0lUXQpdcQRemjm6IItOv0A#/registration
URL:https://www.indybay.org/newsitems/2024/06/24/18867542.php
DTSTART:20240626T140000Z
DTEND:20240626T150000Z
END:VEVENT
END:VCALENDAR
