BEGIN:VCALENDAR
VERSION:2.0
X-WR-CALNAME:www.indybay.org
PRODID:-//indybay/ical// v1.0//EN
BEGIN:VEVENT
UID:Indybay-18867462
SEQUENCE:19036597
CREATED:20240618T004600Z
DESCRIPTION:Yousef Aljamal will be in conversation with three speakers, Nour Hamad, 
 Ahmed Maher Alghazali, and Majd Almishharawi, about education in Gaza and 
 the roles folks in the US can play in the rebuilding of the education 
 system.\n\nRegister at: 
 https://secure.afsc.org/a/webinar-registration-rebuilding-education-gaza-what-can-we-do?emci=8ab40767-2228-ef11-86d2-6045bdd9e096&emdi=c908d639-c729-ef11-86d2-6045bdd9e096&ceid=1101541\n 
 https://www.indybay.org/newsitems/2024/06/17/18867462.php
SUMMARY:Rebuilding Education in Gaza: What Can We Do?
LOCATION:Online
URL:https://www.indybay.org/newsitems/2024/06/17/18867462.php
DTSTART:20240629T150000Z
DTEND:20240629T160000Z
END:VEVENT
END:VCALENDAR
