BEGIN:VCALENDAR
VERSION:2.0
X-WR-CALNAME:www.indybay.org
PRODID:-//indybay/ical// v1.0//EN
BEGIN:VEVENT
UID:Indybay-18866537
SEQUENCE:19035293
CREATED:20240521T190200Z
DESCRIPTION:Mar Monte Monthly: Black Maternal Health\nWednesday, May 29, 2024 6:00 PM - 
  7:00 PM PT\n\nJoin us for Mar Monte Monthly to discuss the pressing issues 
 facing Black mothers and birthing people during pregnancy, childbirth, and 
 postpartum. We will delve into the escalating abortion bans, restrictive 
 measures, and criminalization of pregnancy loss, which disproportionately 
 impact Black communities and contribute to adverse maternal and birth 
 outcomes.\n\nCome together to learn about how we can all advocate for 
 improved maternal, sexual, and reproductive health care accessibility for 
 all.\n https://www.indybay.org/newsitems/2024/05/21/18866537.php
SUMMARY:Mar Monte Monthly: Black Maternal Health
LOCATION:This event will be hosted on Zoom. You must register for the event to 
 receive Zoom details which will be sent out on Tuesday 5/28 & Wednesday 
 5/29. 
URL:https://www.indybay.org/newsitems/2024/05/21/18866537.php
DTSTART:20240530T010000Z
DTEND:20240530T020000Z
END:VEVENT
END:VCALENDAR
