BEGIN:VCALENDAR
VERSION:2.0
X-WR-CALNAME:www.indybay.org
PRODID:-//indybay/ical// v1.0//EN
BEGIN:VEVENT
UID:Indybay-18866317
SEQUENCE:19034999
CREATED:20240517T023800Z
DESCRIPTION:Thursday, May 23 at 1 - 2 PM PT (4 – 5pm ET)\n\nRegister: 
 https://www.mobilize.us/john-lewis-actions/event/627532/\n\nJoin us to 
 learn about how you can participate in the John Lewis National Day of 
 Action to be held on July 17th - the 4th Anniversary of the passing of our 
 voting rights champion.\n\nSadly, with the growing assault on the voting 
 rights and human dignity of marginalized communities there is a need for 
 concerted action to protect our Democracy.\n\nOur Champion, former 
 Congressman John Lewis saw this democracy crisis coming. In the last years 
 of his life he championed two pieces of federal legislation to secure our 
 democracy, the Freedom To Vote Act and the John Lewis Voting Rights 
 Act.\n\nOur plan is to work with you to host events everywhere throughout 
 the nation on July 17th which will highlight the urgency of this 
 moment.\n\nAt our meeting on May 23, 2024, you will hear from leaders of 
 the convening organizations, Transformative Justice Coalition, Declaration 
 for American Democracy, Public Citizen, Black Voters Matter and more about 
 making July 17th a powerful Day of Action!\n 
 https://www.indybay.org/newsitems/2024/05/16/18866317.php
SUMMARY:#VotingRights: John Lewis National Day of Action Launch & Organizing Event
LOCATION:Online town hall
URL:https://www.indybay.org/newsitems/2024/05/16/18866317.php
DTSTART:20240523T200000Z
DTEND:20240523T210000Z
END:VEVENT
END:VCALENDAR
