BEGIN:VCALENDAR
VERSION:2.0
X-WR-CALNAME:www.indybay.org
PRODID:-//indybay/ical// v1.0//EN
BEGIN:VEVENT
UID:Indybay-18865720
SEQUENCE:19034109
CREATED:20240502T215200Z
DESCRIPTION:The Merritt College Landscape Horticulture Department has been undergoing 
 major renovations over the last few years, and now that most of the heavy 
 equipment work has been done, they are ready to host some helpful hands to 
 get some of the demonstration gardens ready to plant. NOTE: All activities 
 will be on steep hill. Please DM if you need clarification on 
 accessibility/mobility issues. \n\nActivities will include:\n\nPath 
 mulching / pushing up hill\nHand weeding - kneeling/squatting\nClearing 
 blackberry\ndead heading\nBuilding Waddle wall with willow -low impact 
 work\nPlanting- kneeling squattingAll hand tools will be provided\n\nBring 
 bag lunch (or a potluck item!), water and sunscreen\n 
 https://www.indybay.org/newsitems/2024/05/02/18865720.php
SUMMARY:Permaculture Day of Action - Merritt College Landscape Horticulture
LOCATION:merritt college
URL:https://www.indybay.org/newsitems/2024/05/02/18865720.php
DTSTART:20240511T170000Z
DTEND:20240511T210000Z
END:VEVENT
END:VCALENDAR
