BEGIN:VCALENDAR
VERSION:2.0
X-WR-CALNAME:www.indybay.org
PRODID:-//indybay/ical// v1.0//EN
BEGIN:VEVENT
UID:Indybay-18865707
SEQUENCE:19034283
CREATED:20240502T205700Z
DESCRIPTION:SHOW UP. SHOW OUT. SUPPORT THE STUDENTS IN THEIR RALLY IN SOLIDARITY WITH 
 GAZA!\n\nFollow @sjsuforgaza for more updates!\n 
 https://www.indybay.org/newsitems/2024/05/02/18865707.php
SUMMARY:EVENT CANCELED: San Jose State Rally for Solidarity with Gaza
LOCATION:San Jose State University Student Union
URL:https://www.indybay.org/newsitems/2024/05/02/18865707.php
DTSTART:20240507T193000Z
DTEND:20240507T233000Z
END:VEVENT
END:VCALENDAR
