BEGIN:VCALENDAR
VERSION:2.0
X-WR-CALNAME:www.indybay.org
PRODID:-//indybay/ical// v1.0//EN
BEGIN:VEVENT
UID:Indybay-18864835
SEQUENCE:19032883
CREATED:20240406T170000Z
DESCRIPTION:Come learn about food and agricultural sovereignty in Palestine. Family 
 Friendly event at UC Gill Tract Community Farm in Albany. Sunday April 14 / 
 2:30-5PM.\n https://www.indybay.org/newsitems/2024/04/06/18864835.php
SUMMARY:Roots of Injustice: Farming in Occupied Palestine
LOCATION:UC Gill Tract Community Farm in Albany
URL:https://www.indybay.org/newsitems/2024/04/06/18864835.php
DTSTART:20240414T213000Z
DTEND:20240415T000000Z
END:VEVENT
END:VCALENDAR
