BEGIN:VCALENDAR
VERSION:2.0
X-WR-CALNAME:www.indybay.org
PRODID:-//indybay/ical// v1.0//EN
BEGIN:VEVENT
UID:Indybay-18864799
SEQUENCE:19032803
CREATED:20240405T010400Z
DESCRIPTION:During our membership drive, we invite you to come to our political pop-up 
 booth to learn about the Uhuru Solidarity Movement, the solidarity front 
 working in the white community for reparations under the leadership of the 
 African People’s Socialist Party. \n\nThe struggle against the climate 
 crisis is a struggle against colonialism and is being led by the colonized 
 themselves. Our responsibility as the colonizers is to work under their 
 leadership and build material solidarity with the movement of the African 
 working class and oppressed peoples of the world to reclaim power over 
 their land, lives and resources.\n\nThis Earth Day we want to get to the 
 root of the problem, which is the colonial mode of production which goes 
 against nature and the peoples on the planet. We will no longer be 
 complicit in genocide. Join at www.uhurusolidarity.org\n 
 https://www.indybay.org/newsitems/2024/04/04/18864799.php
SUMMARY:No Climate Justice on a Foundation of Genocide: Uhuru Solidarity Movement Political Pop-Up
LOCATION:Near the Lake Merritt Columns, 577 Grand Ave, Oakland, CA
URL:https://www.indybay.org/newsitems/2024/04/04/18864799.php
DTSTART:20240420T180000Z
DTEND:20240420T200000Z
END:VEVENT
END:VCALENDAR
