BEGIN:VCALENDAR
VERSION:2.0
X-WR-CALNAME:www.indybay.org
PRODID:-//indybay/ical// v1.0//EN
BEGIN:VEVENT
UID:Indybay-18864760
SEQUENCE:19032776
CREATED:20240403T052300Z
DESCRIPTION:Let’s join voices together at Sonoma City Hall tomorrow evening at 6 PM 
 to give public comment demanding that city council adds a ceasefire vote to 
 one of their upcoming agendas. \n\nLet’s rally support for a ceasefire 
 resolution: come with signs and keffiyehs and let the council see and hear 
 where we stand!\n\nIf you can make it in person:\nPublic comment starts at 
 6PM \n\nIf you cannot make it in person the meeting can be streamed either 
 on zoom:\nhttps://tinyurl.com/SCCmeetingzoom\n\nOR 
 YouTube:\nhttps://tinyurl.com/SCCmeetingyoutube\n\n***Please note: if you 
 wish your comments to be heard you must attend in person. Public comment 
 will not be conducted via zoom***\n\n 
 https://www.indybay.org/newsitems/2024/04/02/18864760.php
SUMMARY:Demand a Ceasefire at Sonoma City Council Meeting
LOCATION:177 1st St W\nSonoma, CA 
URL:https://www.indybay.org/newsitems/2024/04/02/18864760.php
DTSTART:20240404T010000Z
DTEND:20240404T010000Z
END:VEVENT
END:VCALENDAR
