BEGIN:VCALENDAR
VERSION:2.0
X-WR-CALNAME:www.indybay.org
PRODID:-//indybay/ical// v1.0//EN
BEGIN:VEVENT
UID:Indybay-18862733
SEQUENCE:19030122
CREATED:20240201T212000Z
DESCRIPTION:Method Sampling is the principle used by Oakland, CA globetrotting Hip Hop 
 Orchestra Experience, which fuses hip-hop and classical music to magical 
 effect. JooWan Kim, its Korean born composer, believes that any paradigm 
 shifting change only happens by sampling and reframing differences that 
 spark innovation. In this film we will see how Kim tested his hypothesis, 
 meeting a disabled choreographer who revolutionized modern dance, a 
 self-taught Black mycologist who wrote the first books on Cordyceps 
 cultivation, and a tiny house builder with a shipbuilding background who 
 looks at houses as inverted boats. In addition, Italian Critical Theorist, 
 Fabio Vighi explores how Method Sampling may allow society to overcome the 
 challenges it faces today.\n\nThis is a Bay Area premiere; there will be a 
 Q&A following the film with producer JooWan Kim and co-producer Christopher 
 Nicholas. \n https://www.indybay.org/newsitems/2024/02/01/18862733.php
SUMMARY:“Method Sampling: How To Build The Future Together” Film Screening & Discussion
LOCATION:Oakland Asian Cultural Center
URL:https://www.indybay.org/newsitems/2024/02/01/18862733.php
DTSTART:20240302T030000Z
DTEND:20240302T050000Z
END:VEVENT
END:VCALENDAR
