BEGIN:VCALENDAR
VERSION:2.0
X-WR-CALNAME:www.indybay.org
PRODID:-//indybay/ical// v1.0//EN
BEGIN:VEVENT
UID:Indybay-18862515
SEQUENCE:19029864
CREATED:20240127T173000Z
DESCRIPTION:Write, call and remind Rep. Mike Thompson we need a ceasefire now!\n 
 https://www.indybay.org/newsitems/2024/01/27/18862515.php
SUMMARY:Woodland Vigil for Palestine
LOCATION:Rep. Mike Thompson's office\n622 Main St\nWoodland, CA
URL:https://www.indybay.org/newsitems/2024/01/27/18862515.php
DTSTART:20240131T003000Z
DTEND:20240131T013000Z
END:VEVENT
END:VCALENDAR
