BEGIN:VCALENDAR
VERSION:2.0
X-WR-CALNAME:www.indybay.org
PRODID:-//indybay/ical// v1.0//EN
BEGIN:VEVENT
UID:Indybay-18861604
SEQUENCE:19028780
CREATED:20240106T014000Z
DESCRIPTION:We’ll be continuing our Read Palestine listening sessions of "The Hundred 
 Years' War on Palestine" where we left off (~ halfway through chapter 2) 
 Sunday, Jan 7 10am at the San Jose Peace & Justice Center. Everyone is 
 welcome to join, even if you missed the first two sessions! \n\nPlease RSVP 
 at tinyurl.com/HTReadPal3 for headcount. \n\nRefreshments and art supplies 
 will be provided!\n 
 https://www.indybay.org/newsitems/2024/01/05/18861604.php
SUMMARY:Read Palestine: Listening Session and Discussion
LOCATION:48 S 7th St\nSan Jose, CA
URL:https://www.indybay.org/newsitems/2024/01/05/18861604.php
DTSTART:20240107T180000Z
DTEND:20240107T180000Z
END:VEVENT
END:VCALENDAR
