BEGIN:VCALENDAR
VERSION:2.0
X-WR-CALNAME:www.indybay.org
PRODID:-//indybay/ical// v1.0//EN
BEGIN:VEVENT
UID:Indybay-18861538
SEQUENCE:19028656
CREATED:20240103T054400Z
DESCRIPTION:Please join us in Stockton for a Rally for Palestine: No Genocide in 
 2024!\n https://www.indybay.org/newsitems/2024/01/02/18861538.php
SUMMARY:Stockton Rally for Palestine: No Genocide in 2024
LOCATION:Pacific Ave. & March Lane\nStockton, CA
URL:https://www.indybay.org/newsitems/2024/01/02/18861538.php
DTSTART:20240105T223000Z
DTEND:20240105T223000Z
END:VEVENT
END:VCALENDAR
