BEGIN:VCALENDAR
VERSION:2.0
X-WR-CALNAME:www.indybay.org
PRODID:-//indybay/ical// v1.0//EN
BEGIN:VEVENT
UID:Indybay-18861513
SEQUENCE:19028622
CREATED:20240101T181200Z
DESCRIPTION:We are on the corner of 4th and San Fernando Streets every Friday from 5 to 
 6pm. Join us to to take a stand in opposition to war and militarism and in 
 solidarity with Black Lives Matter and all movements working for racial and 
 economic justice.\n\nBing your own signs or use one of ours!\n 
 https://www.indybay.org/newsitems/2024/01/01/18861513.php
SUMMARY:San Jose: Peace Vigil - Call for Ceasefire Not More Weapons for Ukraine or Israel!
LOCATION:in front of MLK Library\n4th and San Fernando\nSan Jose, CA
URL:https://www.indybay.org/newsitems/2024/01/01/18861513.php
DTSTART:20240127T010000Z
DTEND:20240127T020000Z
END:VEVENT
END:VCALENDAR
