BEGIN:VCALENDAR
VERSION:2.0
X-WR-CALNAME:www.indybay.org
PRODID:-//indybay/ical// v1.0//EN
BEGIN:VEVENT
UID:Indybay-18861283
SEQUENCE:19028320
CREATED:20231220T051200Z
DESCRIPTION:Join CODEPINK SF Bay as we demand an end to the siege on Gaza. Action 
 includes: deliver petition to Israeli Consulate demanding Israel ceasefire, 
 stop the genocide, lift the siege; create an altar to the children of Gaza 
 with flowers, candles, and children's shoes; read the names of murdered 
 children; symbolic die-in; rally; picket line; sidewalk chalking; red hand 
 prints; singing; poetry; statements by people with family in Gaza, the West 
 Bank, Israel.  \n\nWe especially invite people to bring children's shoes, 
 flowers and candles to create an altar for the children of 
 Gaza.\n\nRSVP/details: https://www.codepink.org/sf1223\n 
 https://www.indybay.org/newsitems/2023/12/19/18861283.php
SUMMARY:SF: Tell Israel, Stop the Genocide. End the Siege of Gaza Now!
LOCATION:Israeli Consulate, 456 Montgomery St. (@Sacramento), San Francisco
URL:https://www.indybay.org/newsitems/2023/12/19/18861283.php
DTSTART:20231222T200000Z
DTEND:20231222T213000Z
END:VEVENT
END:VCALENDAR
