BEGIN:VCALENDAR
VERSION:2.0
X-WR-CALNAME:www.indybay.org
PRODID:-//indybay/ical// v1.0//EN
BEGIN:VEVENT
UID:Indybay-18860969
SEQUENCE:19027806
CREATED:20231209T064200Z
DESCRIPTION:This session will cover the foundations of organizing in the tech world, an 
 important site of resistance considering tech’s role in Israel’s 
 military industrial complex and its campaign of genocidal violence against 
 Palestine.\n\nIf you work in and around tech - or are simply interested in 
 tech - join the session to hear more about how you can get organized.\n 
 https://www.indybay.org/newsitems/2023/12/08/18860969.php
SUMMARY:From Awareness to Action: Organizing for Tech Workers
LOCATION:Zoom \nRegister at: bit.ly/techorganizing101
URL:https://www.indybay.org/newsitems/2023/12/08/18860969.php
DTSTART:20231212T203000Z
DTEND:20231212T220000Z
END:VEVENT
END:VCALENDAR
