BEGIN:VCALENDAR
VERSION:2.0
X-WR-CALNAME:www.indybay.org
PRODID:-//indybay/ical// v1.0//EN
BEGIN:VEVENT
UID:Indybay-18860830
SEQUENCE:19027581
CREATED:20231202T211100Z
DESCRIPTION:Join us for “Freed Palestinian Women Prisoner Speak Out” Featuring: 
 Marah Bakir (Beit Hanina), Shorouq Dwaiat (Jerusalem), Janan Abdu Esq. 
 (Haifa), Tala Naser Esq. (Ramallah). This will be a productive and engaging 
 discussion about principled feminist, anti-colonial and decolonial praxis 
 and the indivisibility of justice organized by Feminists for Justice in and 
 for Palestine (F4JP), @teachingpalestine, and the @amedstudies. \n\nThe 
 event will be live streamed on  AMED STUDIES SFSU Facebook and YouTube\n\n 
 https://www.indybay.org/newsitems/2023/12/02/18860830.php
SUMMARY:Freed Palestinian Women Prisoners Speak Out
LOCATION:Livestreamed on AMED STUDIES SFSU Facebook and YouTube
URL:https://www.indybay.org/newsitems/2023/12/02/18860830.php
DTSTART:20231206T190000Z
DTEND:20231206T210000Z
END:VEVENT
END:VCALENDAR
