BEGIN:VCALENDAR
VERSION:2.0
X-WR-CALNAME:www.indybay.org
PRODID:-//indybay/ical// v1.0//EN
BEGIN:VEVENT
UID:Indybay-18860491
SEQUENCE:19027006
CREATED:20231117T143500Z
DESCRIPTION:Join us this Sunday, 11/19 at 1pm at San Jose City Hall to demand an end to 
 the U.S.-backed Israeli genocide of the Palestinian people!\n 
 https://www.indybay.org/newsitems/2023/11/17/18860491.php
SUMMARY:San Jose: Stand Up for Gaza
LOCATION:San Jose City Hall, 200 E Santa Clara St, San Jose
URL:https://www.indybay.org/newsitems/2023/11/17/18860491.php
DTSTART:20231119T210000Z
DTEND:20231120T000000Z
END:VEVENT
END:VCALENDAR
