BEGIN:VCALENDAR
VERSION:2.0
X-WR-CALNAME:www.indybay.org
PRODID:-//indybay/ical// v1.0//EN
BEGIN:VEVENT
UID:Indybay-18860466
SEQUENCE:19026938
CREATED:20231116T060200Z
DESCRIPTION:Monday, November 20th is World Children's Day and we invite you to join us 
 in organizing actions in your communities AROUND THE WORLD or come show up 
 to ours in front of BlackRock SF where healthcare workers and kids will be 
 painting a street mural from 12-3pm to uplift our commitment to protect the 
 children, the healthcare workers and the people of Gaza.\n\nBlackRock is a 
 big funder of Israeli violence. Let's send them and the world a message of 
 our insistence protect what's sacred--these children, our colleagues and 
 our work as healers.\n\nThis is a family friendly 
 event!\n\n=================================================================\n\nCALL 
 TO ACTION\n\nContact the White House, your Senators and Representative 
 to:\n1) Ask for an immediate ceasefire in Gaza. Ask your Representative to 
 cosponsor H.Res. 786.\n2) Prioritize the immediate delivery of humanitarian 
 aid to Gaza \n3) End US taxpayer dollars to Israel\n\nWhite House Comment 
 Line\nOpen Tuesday-Thursday 11am-3pm EST\n(202) 456-1111 or (202) 
 456-1414\nEmail Contact Page: https://www.whitehouse.gov/contact/\n\nYou 
 can use this CALL SCRIPT to contact your Senators and Representative: 
 https://act.uscpr.org/a/callforgaza\n\nSenator Alex Padilla\n(202) 224-3553 
 DC office\nIf voicemail box is full, try Senator Padilla's other office 
 locations: (415) 981-9369 San Francisco office; (916) 448-2787 Sacramento 
 office, (559) 497-5109 Fresno office; (310) 231-4494 LA office; (619) 
 239-3884 San Diego office\nEmail Contact Page: 
 https://www.padilla.senate.gov/contact/contact-form/\n\nSenator Laphonza 
 Butler\n(202) 224-3841\nIf voicemail box is full, try Senator Butler's 
 other office locations: (415) 393-0707 San Francisco office; (310) 914-7300 
 LA office; (619) 231-9712 San Diego office; (559) 485-7430 Fresno 
 office\nhttps://www.butler.senate.gov/\n\nCongressional Switchboard\n(202) 
 224-3121\nContact your congressperson: 
 https://www.house.gov/representatives/find-your-representative\n\n================================================================\nEMAIL 
 Congress:\n\nhttps://actionnetwork.org/letters/tell-congress-ceasefire-now?source=MC_ceasefire\n\nhttps://act.uscpr.org/a/%20stop-funding-israels-massacres\n===================================================\n\nceasefiretoday.com 
 for ACTION 
 TOOLKIT\n\n======================================================\n\nUS 
 Campaign for Palestinian Rights' ACTION TOOLKIT:  
 http://bit.ly/StopGazaGenocide\n\n===================================================\n\nSIGN 
 this petition: 
 https://chng.it/yvbVjNyF8y\n\n=======================================================\n\nLEARN 
 more about Palestine at:\n- GazaIsPalestine.com\n- 
 PalestineRemembered.com\n- US Campaign for Palestinian Rights (USCPR)\n- 
 Adalah Justice Project\n- BDS Movement \n- We Are Not Numbers\n- 
 teachpalestine.org\n- decolonizepalestine.com\n- 
 https://visualizingpalestine.org/?blm_aid=247605126#visuals\n\n====================================================\n\nREAD 
 the following books:\n1) Palestine: A Four Thousand Year History by Nur 
 Masalha\n2) Palestine...it is something colonial by Dr. Hatem Bazian\n3) 
 Free Ebooks: 
 https://www.haymarketbooks.org/blogs/495-free-ebooks-for-a-free-palestine\n4) 
 Free Resources & Further Reading: 
 https://www.versobooks.com/blogs/news/solidarity-with-palestine-free-resources-and-further-reading\n 
 5) The Hundred Years' War on Palestine: A History of Settler Colonialism 
 and Resistance, 1917-2017 - Rashid 
 Khalid\n====================================================\n\nWATCH the 
 following:\n1) "1948: Creation & Catastrophe" at 
 https://www.1948movie.com/\n2) "The Price of Oslo"\nEpisode 1: 
 https://www.youtube.com/watch?v=ism-ctaSbw0\nEpisode 2: 
 https://www.youtube.com/watch?v=TgFWEVQTeHM\n3) "Gaza Fights for Freedom" 
 at https://www.youtube.com/watch?v=HnZSaKYmP2s\n4) ~16 minute YouTube video 
 of how Palestinians were expelled from their homes 
 https://www.youtube.com/watch?v=rGVgjS98OsU\n5) ~9 minute YouTube video of 
 Nakba Timeline Map https://www.youtube.com/watch?v=OnLsVA0RYoQ\n\n 
 ==================================================================\n\nBOYCOTT:\nMcDonalds, 
 Domino's Pizza, Papa John's Pizza, Pizza Hut, Burger King, Starbucks\nHP, 
 Google, Amazon, Expedia, Airbnb, Booking.com, RE/MAX, Chevron, Volvo\nPUMA, 
 Sabra, SodaStream, ZARA, AHAVA, Disney    
 \n\n==================================================\nFind a 
 PROTEST:\nhttps://samidoun.net/2023/10/calendar-of-resistance-for-palestine-events-and-actions-around-the-world/\n 
 https://www.indybay.org/newsitems/2023/11/15/18860466.php
SUMMARY:Come Paint the Streets with Healthcare Workers and Kids in front of BlackRock!
LOCATION:BlackRock\n400 Howard St\nSan Francisco, CA
URL:https://www.indybay.org/newsitems/2023/11/15/18860466.php
DTSTART:20231120T200000Z
DTEND:20231120T230000Z
END:VEVENT
END:VCALENDAR
