BEGIN:VCALENDAR
VERSION:2.0
X-WR-CALNAME:www.indybay.org
PRODID:-//indybay/ical// v1.0//EN
BEGIN:VEVENT
UID:Indybay-18860268
SEQUENCE:19026656
CREATED:20231110T224700Z
DESCRIPTION:Join us for a thought-provoking conversation on the pressing issue of 
 academic freedom and the role of information professionals in today's 
 climate of cultural terrorism. This event is proudly organized in 
 collaboration with Librarians and Archivists with Palestine (LAP) – a 
 network committed to supporting the Palestinian struggle for 
 self-determination and advocating for the free flow of information. Our 
 distinguished guest, Dr. Sharon C. Smith, a respected academic and member 
 of LAP since its inception in 2013, will share her insights and experiences 
 in navigating the challenges faced by information professionals in 
 promoting objective information in the context of the Palestinian struggle. 
 \n\nWe invite all individuals passionate about academic freedom, social 
 justice, and the accurate representation of the Palestinian struggle to 
 join us for this 
 event.\n\n=================================================================\n\nCALL 
 TO ACTION\n\nContact the White House, your Senators and Representative 
 to:\n1) Ask for an immediate ceasefire in Gaza. Ask your Representative to 
 cosponsor H.Res. 786.\n2) Prioritize the immediate delivery of humanitarian 
 aid to Gaza \n3) End US taxpayer dollars to Israel\n\nWhite House Comment 
 Line\nOpen Tuesday-Thursday 11am-3pm EST\n(202) 456-1111 or (202) 
 456-1414\nEmail Contact Page: https://www.whitehouse.gov/contact/\n\nYou 
 can use this CALL SCRIPT to contact your Senators and Representative: 
 https://act.uscpr.org/a/callforgaza\n\nSenator Alex Padilla\n(202) 224-3553 
 DC office\nIf voicemail box is full, try Senator Padilla's other office 
 locations: (415) 981-9369 San Francisco office; (916) 448-2787 Sacramento 
 office, (559) 497-5109 Fresno office; (310) 231-4494 LA office; (619) 
 239-3884 San Diego office\nEmail Contact Page: 
 https://www.padilla.senate.gov/contact/contact-form/\n\nSenator Laphonza 
 Butler\n(202) 224-3841\nIf voicemail box is full, try Senator Butler's 
 other office locations: (415) 393-0707 San Francisco office; (310) 914-7300 
 LA office; (619) 231-9712 San Diego office; (559) 485-7430 Fresno 
 office\nhttps://www.butler.senate.gov/\n\nCongressional Switchboard\n(202) 
 224-3121\nContact your congressperson: 
 https://www.house.gov/representatives/find-your-representative\n\n================================================================\nEMAIL 
 Congress:\n\nhttps://actionnetwork.org/letters/tell-congress-ceasefire-now?source=MC_ceasefire\n\nhttps://act.uscpr.org/a/%20stop-funding-israels-massacres\n===================================================\n\nceasefiretoday.com 
 for ACTION 
 TOOLKIT\n\n======================================================\n\nUS 
 Campaign for Palestinian Rights' ACTION TOOLKIT:  
 http://bit.ly/StopGazaGenocide\n\n===================================================\n\nSIGN 
 this petition: 
 https://chng.it/yvbVjNyF8y\n\n=======================================================\n\nLEARN 
 more about Palestine at:\n- GazaIsPalestine.com\n- 
 PalestineRemembered.com\n- US Campaign for Palestinian Rights (USCPR)\n- 
 Adalah Justice Project\n- BDS Movement \n- We Are Not Numbers\n- 
 teachpalestine.org\n- 
 decolonizepalestine.com\n\n====================================================\n\nREAD 
 the following books:\n1) Palestine: A Four Thousand Year History by Nur 
 Masalha\n2) Palestine...it is something colonial by Dr. Hatem Bazian\n3) 
 Free Ebooks: 
 https://www.haymarketbooks.org/blogs/495-free-ebooks-for-a-free-palestine\n4) 
 Free Resources & Further Reading: 
 https://www.versobooks.com/blogs/news/solidarity-with-palestine-free-resources-and-further-reading\n\n====================================================\n\nWATCH 
 the following:\n1) "1948: Creation & Catastrophe" at 
 https://www.1948movie.com/\n2) "The Price of Oslo"\nEpisode 1: 
 https://www.youtube.com/watch?v=ism-ctaSbw0\nEpisode 2: 
 https://www.youtube.com/watch?v=TgFWEVQTeHM\n3) "Gaza Fights for Freedom" 
 at https://www.youtube.com/watch?v=HnZSaKYmP2s\n4) ~16 minute YouTube video 
 of how Palestinians were expelled from their homes 
 https://www.youtube.com/watch?v=rGVgjS98OsU\n5) ~9 minute YouTube video of 
 Nakba Timeline Map https://www.youtube.com/watch?v=OnLsVA0RYoQ\n\n 
 ==================================================================\n\nBOYCOTT:\nMcDonalds, 
 Domino's Pizza, Papa John's Pizza, Pizza Hut, Burger King, Starbucks\nHP, 
 Google, Amazon, Expedia, Airbnb, Booking.com, RE/MAX, Chevron, Volvo\nPUMA, 
 Sabra, SodaStream, ZARA, AHAVA, Disney    
 \n\n==================================================\nFind a 
 PROTEST:\nhttps://samidoun.net/2023/10/calendar-of-resistance-for-palestine-events-and-actions-around-the-world/\n 
 https://www.indybay.org/newsitems/2023/11/10/18860268.php
SUMMARY:Providing the Palestinian Perspective on the Current Events (Week 5)
LOCATION:This is a Hybrid Event, meaning you can attend virtually via Zoom or, 
 in-person at the Palestine Museum US, 1764 Litchfield Turnpike, Woodbridge, 
 Connecticut\n\nZoom registration link is below.
URL:https://www.indybay.org/newsitems/2023/11/10/18860268.php
DTSTART:20231112T170000Z
DTEND:20231112T193000Z
END:VEVENT
END:VCALENDAR
