BEGIN:VCALENDAR
VERSION:2.0
X-WR-CALNAME:www.indybay.org
PRODID:-//indybay/ical// v1.0//EN
BEGIN:VEVENT
UID:Indybay-18859999
SEQUENCE:19026299
CREATED:20231101T232900Z
DESCRIPTION: Revolutionary Friday: Stop The Genocide Of Palestine! End The 
 Occupation!\nFriday, November 3, 2023\n1:00pm - 2:00pm\n\nSF Federal 
 Building \n90 7th Street (Outside Rep. Nancy Pelosi's 
 Office)\nSF\n\nRevolutionary Friday, will be at the SF Federal Building 
 this Friday, outside Rep. Nancy Pelosi’s office. Representative Pelosi 
 continues to vote for funds for military aid to Israel. She also is 
 resisting the peoples call for a ceasefire in Gaza. \n\nNancy Pelosi is 
 complicit in Genocide of the Palestinian People!\n\nAll are welcomed to 
 join the Revolutionary Workers Front and Mothers On The March, at the SF 
 Federal Building to demand and end to the continued genocide, illegal and 
 violent occupation and apartheid inflicted on Palestinians by the Zionist 
 Israeli government. \n\nUPDATE from Defense of Children International – 
 Palestine: As of November 1, 2023, Palestinian child fatalities climb to 
 3,650, with more than 1,000 missing under the rubble of apartment buildings 
 and refugee camps across the Gaza Strip, Israeli settlers and soldiers are 
 unleashing violence and cruelty against Palestinian children in the 
 occupied West Bank.\n\nOur RESISTANCE to U.S. policy makers is important to 
 stand in solidarity with the people of Palestine  / Gaza.\n\nAll are 
 welcomed to bring your homemade messages. We have banners and chalk for 
 your sidewalk messages.\n\nStand in solidarity with the people of 
 Palestine!\n\nWE CALL FOR:\n• AN END TO ALL U.S. MILITARY AID AND WEAPONS 
 TO ISRAEL\n• AN END TO THE BLOCKADE OF PALESTINE\n• A CEASEFIRE on the 
 Palestinian People by the Zionist government.\n• END THE APARTHEID / 
 COLONIALIZATION OF PALESTINE \nVIVIA PALESTINA!\n\nArticles:\n\n1. 'This is 
 a time for war’: Israel will not agree to ceasefire with Hamas, says 
 Netanyahu – October 30, 2023\nhttps://www.youtube.com/watch?v=RiOcj2sjFoM 
 \n\n2. ‘Your’re the terrorist’: Protesters disrupt Blinken at Senate 
 hearing –October 31, 2023\n 
 https://www.politico.com/video/2023/10/31/youre-the-terrorist-protesters-disrupt-blinken-at-senate-hearing-1124413 
 \n\n\n\n\n\n\n https://www.indybay.org/newsitems/2023/11/01/18859999.php
SUMMARY:Stop The Genocide of Palestine! End The Occupation
LOCATION:San Francisco Federal Building\n90 7th Street (Between Mission & Market 
 St.)\nSan Francisco
URL:https://www.indybay.org/newsitems/2023/11/01/18859999.php
DTSTART:20231103T200000Z
DTEND:20231103T210000Z
END:VEVENT
END:VCALENDAR
