BEGIN:VCALENDAR
VERSION:2.0
X-WR-CALNAME:www.indybay.org
PRODID:-//indybay/ical// v1.0//EN
BEGIN:VEVENT
UID:Indybay-18859812
SEQUENCE:19026007
CREATED:20231023T193000Z
DESCRIPTION:► COME TOGETHER at REVOLUTION BOOKS\nEmergency Presentation & Discussion 
 --bring your friends & raise your questions:\n\nSome Basic Truth About 
 Palestine & Israel\n\nIsrael, backed by “western” imperialists—and 
 above all, the U.S.—is the dominant and oppressive force in its relation 
 with the Palestinian people. Israel was founded, 75 years ago, on the basis 
 of massive terror against masses of Palestinian people, and has carried out 
 repeated atrocities against the Palestinian people ever since. This is a 
 matter of historical fact.\n\nHamas is not revolutionary and its goals are 
 not emancipating—it is not a force for liberation, but is itself an 
 oppressive force. The atrocities committed by Hamas against Israeli 
 civilians flow out of the reactionary nature, objectives and methods of 
 Hamas as religious (Islamic) fundamentalist fanatics. These atrocities 
 should be condemned.\n\n...but this is nowhere close to the horrific 
 suffering that Israel has imposed for generations on the Palestinian 
 people. Already now, the number of Palestinian civilians, including 
 children, that Israel has killed since this Hamas attack is far greater 
 than Israeli civilians killed in that attack—and that is on top of the 
 thousands more that Israel has slaughtered just since 2008.\n\n--excerpted 
 from Some Basic Truths About the U.S.-Supported Israeli War Against 
 Palestine by Bob Avakian\n\n● U.S. and Israel: Hands Off The Palestinian 
 People! \n\n● Israel: STOP the Genocidal State of Siege and War Against 2 
 Million Palestinians Trapped in Gaza! U.S. Imperialism STOP Your Bloody 
 Arming Of Israel!\n\n● Hamas Is Not A Force For Liberation—The 
 Palestinian People Need A Real Revolution!\n\n● The People of the World 
 Need REAL Revolution And A Whole New Emancipating Way To Live!\n\n"We, the 
 people of the world, can no longer afford to allow these imperialists to 
 continue to dominate the world and determine the destiny of humanity. They 
 need to be overthrown as quickly as possible. And it is a scientific fact 
 that we do not have to live this way."\n--Bob Avakian\n 
 https://www.indybay.org/newsitems/2023/10/23/18859812.php
SUMMARY:Stand Against the U.S.-Backed Israeli War On Palestine! Video and Discussion
LOCATION:Revolution Books, 2444 Durant Ave. Berkeley CA 94704
URL:https://www.indybay.org/newsitems/2023/10/23/18859812.php
DTSTART:20231029T010000Z
DTEND:20231029T030000Z
END:VEVENT
END:VCALENDAR
