BEGIN:VCALENDAR
VERSION:2.0
X-WR-CALNAME:www.indybay.org
PRODID:-//indybay/ical// v1.0//EN
BEGIN:VEVENT
UID:Indybay-18859687
SEQUENCE:19025789
CREATED:20231017T234800Z
DESCRIPTION:Emergency Virtual Teach-in on the Genocide in Palestine\n\nJoin the 
 Palestinian Feminist Collective on Wednesday, October 18th at 5PM Pacific, 
 \n7PM Central, 8PM Eastern for an emergency virtual teach in on the 
 genocide in Palestine.\n\nStop the Genocide Now! Free 
 Palestine!\n\nPalestinian Feminist Collective: 
 https://palestinianfeministcollective.org/\n 
 https://www.indybay.org/newsitems/2023/10/17/18859687.php
SUMMARY:Emergency Virtual Teach-in on Genocide in Palestine
LOCATION:Zoom: 
 https://us06web.zoom.us/webinar/register/WN_GtNAt5CsS3-pzAFUCX2iOQ#/registration
URL:https://www.indybay.org/newsitems/2023/10/17/18859687.php
DTSTART:20231019T000000Z
DTEND:20231019T010000Z
END:VEVENT
END:VCALENDAR
