BEGIN:VCALENDAR
VERSION:2.0
X-WR-CALNAME:www.indybay.org
PRODID:-//indybay/ical// v1.0//EN
BEGIN:VEVENT
UID:Indybay-18859581
SEQUENCE:19025608
CREATED:20231014T163200Z
DESCRIPTION:CALL TO ACTION\n\nContact the White House, your Senators and Representative 
 to:\n1) Ask for a ceasefire in Gaza\n2) Tell them you oppose the use of 
 American aid to pursue inhumane collective punishment\n3) Prioritize the 
 immediate delivery of humanitarian aid to alleviate the suffering in 
 Gaza\n\nWhite House Comment Line\n(202) 456-1111\nEmail Contact Page: 
 https://www.whitehouse.gov/contact/\n\nSen. Alex Padilla\n(202) 
 224-3553\nEmail Contact Page: 
 https://www.padilla.senate.gov/contact/contact-form/\n\nSen. Laphonza 
 Butler\n(202) 224-3841\nhttps://www.butler.senate.gov/\n\nCongressional 
 Switchboard\n(202) 224-3121\nContact your congressperson: 
 https://www.house.gov/representatives/find-your-representative\n\nOR you 
 can use this call script: https://act.uscpr.org/a/callforgaza\n\nThe 
 following are links to email 
 Congress:\n\nhttps://www.codepink.org/disarmisrael?utm_campaign=palestine_follow_up_oct_13&utm_medium=email&utm_source=codepink\n\nhttps://actionnetwork.org/letters/urgent-stop-the-genocidal-bombing-of-gaza?clear_id=true&source=mc_email\n\nhttps://secure.everyaction.com/hmMRwOU7ek6fs7vyOunUkw2?contactdata=fusJYG3KXTrRWID304YGwafqCwvYZSVIlMh5TLM7a63ZpfXGIL%2fcZFp98veSTOFh4F+aBa4q+EDGsCyAKtNw5gPW8ryviJ+B4uM7lemrTGY+T3OgtEIQ5UcOKrSFCnm7TiC2P6k6uzsTZsLqggD3kX3ckKR3SkBR+GMUlFicFNxhDIaix49u3w1p+fkHf1zcxuynm+0aVPPY457EWYF4Ug%3d%3d&emci=0d65531a-5f67-ee11-9937-00224832eb73&emdi=7f192579-9967-ee11-9937-00224832eb73&ceid=307880\n 
 https://www.indybay.org/newsitems/2023/10/14/18859581.php
SUMMARY:Emergency Demonstration for Palestine
LOCATION:16th & J St, Sacramento
URL:https://www.indybay.org/newsitems/2023/10/14/18859581.php
DTSTART:20231014T190000Z
DTEND:20231014T200000Z
END:VEVENT
END:VCALENDAR
