BEGIN:VCALENDAR
VERSION:2.0
X-WR-CALNAME:www.indybay.org
PRODID:-//indybay/ical// v1.0//EN
BEGIN:VEVENT
UID:Indybay-18856312
SEQUENCE:19021102
CREATED:20230524T220600Z
DESCRIPTION:How the Supreme Court Is Dividing America\n\nTuesday, June 13 @ 3 - 4 PM PT 
 (6 – 7 PM ET)\n\nRSVP: 
 https://www.92ny.org/event/newmark/supreme-court-dividing-america\n\n\nIn 
 2022, the Court’s conservative supermajority radically loosened gun 
 safety laws, overturned the constitutional right to abortion, and limited 
 the federal government’s power to fight climate change. \n \nAnd the most 
 extreme Supreme Court in decades is on the verge of changing the nation — 
 again. \nNext up: redistricting, voting rights, and affirmative action — 
 and the potential to fundamentally alter how the country deals with racial 
 justice. \n\nHow did we get here? How will overreach by the justices impact 
 the 2024 election? And what can we do to protect American democracy from a 
 deeply political, fiercely partisan Supreme Court?\n\nJoin us for a 
 discussion on Brennan Center President Michael Waldman’s new book, "The 
 Supermajority: How the Supreme Court Divided America, about the Court’s 
 devastating 2021–2022 term." \n\n\nSpeakers:\n\n--Michael Waldman, 
 President, Brennan Center; Author, The Supermajority: How the Supreme Court 
 Divided America\n\n--Wilfred Codrington III, Associate Professor of Law and 
 Dean’s Research Scholar, \nBrooklyn Law School; Brennan Center 
 Fellow\n\n--Cristina Rodríguez, Leighton Homer Surbeck Professor of Law, 
 Yale Law School; \nCo-Chair, Presidential Commission on the Supreme Court 
 of the United States\n\n--Moderator: George Stephanopoulos, Anchor, This 
 Week with George Stephanopoulos, \nABC News\n\n 
 https://www.indybay.org/newsitems/2023/05/24/18856312.php
SUMMARY:How the Supreme Court is Dividing America
LOCATION:Online event - FREE
URL:https://www.indybay.org/newsitems/2023/05/24/18856312.php
DTSTART:20230613T220000Z
DTEND:20230613T230000Z
END:VEVENT
END:VCALENDAR
