BEGIN:VCALENDAR
VERSION:2.0
X-WR-CALNAME:www.indybay.org
PRODID:-//indybay/ical// v1.0//EN
BEGIN:VEVENT
UID:Indybay-18856117
SEQUENCE:19020833
CREATED:20230518T001800Z
DESCRIPTION:The Ride for Palestine is a day of fun, solidarity, and celebration. The 
 11-mile scenic Ride for Palestine is designed to be enjoyable for cyclists 
 of all skill levels. The post-Ride celebration will include delicious 
 Palestinian food, music, and more.\n\nMECA’s first annual Ride for 
 Palestine was a huge success. Riders raised more than $50,000 to support 
 MECA’s projects for children in Palestine and Lebanon’s refugee camps. 
 This year our goal is $75,000 in honor of 75 years since the 1948 Nakba 
 that began the expulsion and dispossession of Palestinians that continues 
 to this day.\n\nMore info available at RideforPalestine.com. Reach out to 
 info@rideforpalestine.com\n\nRide for solidarity. Ride for Palestinian 
 children. Ride for fun and community.\n 
 https://www.indybay.org/newsitems/2023/05/17/18856117.php
SUMMARY:Ride for Palestine
LOCATION:1101 8th St, Berkeley, CA 94710 
URL:https://www.indybay.org/newsitems/2023/05/17/18856117.php
DTSTART:20230716T160000Z
DTEND:20230716T220000Z
END:VEVENT
END:VCALENDAR
