BEGIN:VCALENDAR
VERSION:2.0
X-WR-CALNAME:www.indybay.org
PRODID:-//indybay/ical// v1.0//EN
BEGIN:VEVENT
UID:Indybay-18854949
SEQUENCE:19019141
CREATED:20230317T041600Z
DESCRIPTION:The City of Santa Cruz is threatening to shut down Food Not Bombs\n\nYou 
 never need permission to share food with the hungry.\n\nEMERGENCY 
 MEETING\nMonday, March 20, 2023\nStarting at 5pm at the Resource Center for 
 Nonviolence\n612 Ocean St., Santa Cruz\n\nSharing food is always an 
 unregulated gift of compassion.\n 
 https://www.indybay.org/newsitems/2023/03/16/18854949.php
SUMMARY:Defend Food Not Bombs Right to Share Food & Protest
LOCATION:Resource Center for Nonviolence\n612 Ocean St., Santa Cruz
URL:https://www.indybay.org/newsitems/2023/03/16/18854949.php
DTSTART:20230321T000000Z
DTEND:20230321T000000Z
END:VEVENT
END:VCALENDAR
