BEGIN:VCALENDAR
VERSION:2.0
X-WR-CALNAME:www.indybay.org
PRODID:-//indybay/ical// v1.0//EN
BEGIN:VEVENT
UID:Indybay-18854892
SEQUENCE:19019083
CREATED:20230314T231400Z
DESCRIPTION:Join this empowering event celebrating the art and drag of queer ancestor 
 Francis, the Queen of Queens.\n\nInspired by Francis’ talents in drag, 
 comedy, and multi-disciplinary arts, attendees of this will explore their 
 multi-disciplinary artistry and develop a drag persona. \n\nTeaching artist 
 and San Francisco’s most beloved drag queen Per Sia will lead 
 participants in this playshop. \n\nCome with ‘an open heart’ and have 
 fun! Supplemental makeup and supplies will be provided.\n 
 https://www.indybay.org/newsitems/2023/03/14/18854892.php
SUMMARY:FabLab Playshop - Per Sia and Francis
LOCATION:ACT Studios\n30 Grant Ave\nSF, CA
URL:https://www.indybay.org/newsitems/2023/03/14/18854892.php
DTSTART:20230325T010000Z
DTEND:20230325T040000Z
END:VEVENT
END:VCALENDAR
