BEGIN:VCALENDAR
VERSION:2.0
X-WR-CALNAME:www.indybay.org
PRODID:-//indybay/ical// v1.0//EN
BEGIN:VEVENT
UID:Indybay-18853331
SEQUENCE:19016695
CREATED:20221209T073000Z
DESCRIPTION:A queer, mixed race writer working in a largely white, male field, science 
 and conservation journalist Sabrina Imbler has always been drawn to the 
 mystery of life in the sea, and particularly to creatures living in hostile 
 or remote environments. Each essay in their debut collection profiles one 
 such creature. Exploring themes of adaptation, survival, sexuality, and 
 care, and weaving the wonders of marine biology with stories of their own 
 family, relationships, and coming of age How Far the Light Reaches: A Life 
 In Ten Sea Creatures is a shimmering, otherworldly debut that attunes us to 
 new visions of our world and its miracles.\n\nImbler is a freelance science 
 writer based in Brooklyn, New York. Their work has appeared in Atlas 
 Obscura, the New York Times, and The Atlantic.\n\nFree event. Please be 
 masked and vaxxed.\n 
 https://www.indybay.org/newsitems/2022/12/08/18853331.php
SUMMARY:What Exotic Marine Animals Can Tech Us About Adaptation, Survival, Sexuality, and Care
LOCATION:The Green Arcade\n1680 Market Street\nSan Francisco, CA  94102
URL:https://www.indybay.org/newsitems/2022/12/08/18853331.php
DTSTART:20221223T030000Z
DTEND:20221223T043000Z
END:VEVENT
END:VCALENDAR
