BEGIN:VCALENDAR
VERSION:2.0
X-WR-CALNAME:www.indybay.org
PRODID:-//indybay/ical// v1.0//EN
BEGIN:VEVENT
UID:Indybay-18852546
SEQUENCE:19015450
CREATED:20221013T212400Z
DESCRIPTION:Red October is a Santa Cruz-based convergence of radical events and 
 discussions, art and presentations, joining flourishing movements sharing a 
 post-capitalist, socialist horizon. \n\nDrawing inspiration from past 
 models of theory and practice, Red October brings critical and affirmative 
 attention to contemporary ways of imagining a world beyond capitalism, 
 including in relation to their antiracist, antisexist, and decolonial 
 intersections.\n\nRed October is specific to local concerns in Santa Cruz, 
 as well as extending beyond them, seeking to connect, amplify, and 
 strengthen theoretical and comparative frameworks for local struggles. It 
 provides a movement space of red organizing in collaboration with labor, 
 ecosocialist, and political formations within and beyond 
 electoralism.\n\nRed October is motivated to push the conversation toward 
 recognizing the necessity of a socialist future, to build networks of 
 alliances and solidarity on the Left, and to imagine and realize a 
 post-capitalist world in common. \n 
 https://www.indybay.org/newsitems/2022/10/13/18852546.php
SUMMARY:Red October -- Santa Cruz
LOCATION:Misc.
URL:https://www.indybay.org/newsitems/2022/10/13/18852546.php
DTSTART:20221014T120000Z
DTEND:20221014T120000Z
END:VEVENT
END:VCALENDAR
