BEGIN:VCALENDAR
VERSION:2.0
X-WR-CALNAME:www.indybay.org
PRODID:-//indybay/ical// v1.0//EN
BEGIN:VEVENT
UID:Indybay-18852151
SEQUENCE:19014854
CREATED:20220921T220700Z
DESCRIPTION:From global warming models rendered as haunting musical compositions to 
 augmented reality games designed to confront us with the disparate impacts 
 of climate change for those most vulnerable, art and technology are 
 converging in the face of our escalating climate emergency. Join KQED Live 
 and The New York Times to experience the work of Bay Area creatives 
 deploying technology in response to this crisis and to experience some of 
 the art it is inspiring.\n\nSchedule\n6:00pm - Doors Open & Bar 
 Service\n7:00pm - Program\n8:30pm - Post-Show Reception, feat. a 
 Trash-Based Art Experience by Danielle Baskin \n\nProgram\nAniya Butler, 
 Youth vs. the Apocalypse\nAna Teresa Fernandez, Multidisciplinary 
 Artist\nMicha Cardenas, Director of the Critical Realities Studio and 
 Associate Professor at University of California, Santa Cruz\nWhendee 
 Silver, Professor and Chair of the Department of Environmental Science, 
 Policy, and Management at University of California, Berkeley\nEduardo Del 
 Signore, Musician & Composer\nEduardo Del Signore will perform the premiere 
 of Audyssey, a new work of music and data visualization commissioned by 
 ClimateMusic.\n\nThis program is a prelude to an all-day event hosted by 
 The New York Times the following day called "A New Climate: How can 
 technology and art inspire change in a warming world?" Ticket-holders to 
 the next day's event can register for free with a promo code provided by 
 The New York Times, or ticket-buyers to this event at KQED will receive a 
 code for 25% off tickets to the all-day Times event.\n\nThis event is 
 presented in collaboration with The New York Times.\n\nIn Person: $25.\n 
 https://www.indybay.org/newsitems/2022/09/21/18852151.php
SUMMARY:KQED Live: Art & Tech in a Warming World with The New York Times
LOCATION:The Commons, KQED Headquarters\n2601 Mariposa Street\nSan Francisco, CA 
 94110
URL:https://www.indybay.org/newsitems/2022/09/21/18852151.php
DTSTART:20221011T020000Z
DTEND:20221011T040000Z
END:VEVENT
END:VCALENDAR
