BEGIN:VCALENDAR
VERSION:2.0
X-WR-CALNAME:www.indybay.org
PRODID:-//indybay/ical// v1.0//EN
BEGIN:VEVENT
UID:Indybay-18851680
SEQUENCE:19014230
CREATED:20220823T012700Z
DESCRIPTION:Ever since Roe v Wade legalized limited access to abortion in 1973, it has 
 been under attack across the country. The nationwide assault on abortion 
 rights has many looking at this problem and questioning what we can do? 
 Jenny Brown, the author of the book Without Apology: The Abortion Struggle 
 Now will join us to discuss the fight for reproductive rights, both the 
 lessons from the past and strategies for today.\n\nPlease join us online 
 for this important discussion about standing up to the attacks on 
 reproductive rights, as well as the larger struggle for the rights of women 
 and all people.\n\nJenny Brown is an organizer in the women’s liberation 
 movement. She works with the feminist group National Women’s Liberation 
 and has written or coauthored several books on feminism, reproductive 
 rights, and labor, including Birth Strike: The Hidden Fight Over Women’s 
 Work.\n\nSee the review that Speak Out wrote about Brown’s latest book: 
 Without Apology: The Abortion Struggle Now.\n 
 https://www.indybay.org/newsitems/2022/08/22/18851680.php
SUMMARY:The Abortion Struggle Today — Our Right and Our Fight
LOCATION:Online townhall, see website for details
URL:https://www.indybay.org/newsitems/2022/08/22/18851680.php
DTSTART:20220925T230000Z
DTEND:20220926T010000Z
END:VEVENT
END:VCALENDAR
