BEGIN:VCALENDAR
VERSION:2.0
X-WR-CALNAME:www.indybay.org
PRODID:-//indybay/ical// v1.0//EN
BEGIN:VEVENT
UID:Indybay-18850952
SEQUENCE:19013191
CREATED:20220711T075100Z
DESCRIPTION:Wednesdays, 7:00 - 8:30 pm\nJune 15 – August 10\n\nRegister at 
 http://bit.ly/FSFD-Labor\n\nIsn’t it time to fight back?\n\nThis reading 
 and discussion series is an instrument for doing just that. Participants 
 look at past achievements and failures, traditions and innovations, to 
 understand how workers got where we are today — and how to move 
 forward.\n\nSession 5, Wednesday, 7/13: “Not Your Grandfather's Movement: 
 Beyond "Bread & Butter" Issues and Traditional Unions.”\n\nThis week's 
 discussion will look at the need for the labor movement to address societal 
 issues and the fight for workers not typically represented by unions. 
 Specific examples include programs like affirmative action and forming 
 community groups and organizations like worker centers to support 
 non-unionized labor. Such efforts are crucial to building broad 
 working-class solidarity.\n\nZoom in – share your insights and 
 questions!\n\n$3-6 donation requested per session to benefit the Freedom 
 Socialist newspaper, a great source of labor news, as part of the $100,000 
 Freedom Socialist Fund Drive.\n\nFull Schedule:\n\nJune 15\nPower of 
 Workers – The Strike\n\nJune 22\nRadical Builders of a Militant 
 Movement\n\nJune 29\nSleeping with the Enemy – What Happened to the 
 Strength of Unions?\n\nJuly 6\nRise of the Excluded: Changing Demographics 
 of the Workforce and Leadership of the Most Oppressed\n\nJuly 13\nNot Your 
 Grandfather's Movement: Beyond "Bread and Butter" Issues and Traditional 
 Unions\n\nJuly 20\nRegaining Labor's Mojo in an Era of Reaction\n\nJuly 
 27\nPublic Sector Workers Fight On-the-Job Racism\n\nAugust 3\nThe 
 Pandemic: Essential Workers Lead a Strike Surge\n\nAugust 10\nOnline and 
 Service Economy: Building Unions Where None Existed\n\nAll welcome · Join 
 anytime\nFor more information and readings: 415-864-1278 · 
 bayareaFSP@socialism.com\n 
 https://www.indybay.org/newsitems/2022/07/11/18850952.php
SUMMARY:Labor History Online Discussion Group - Session 5: Beyond "Bread & Butter"
LOCATION:Zoom (Register at http://bit.ly/FSFD-Labor)
URL:https://www.indybay.org/newsitems/2022/07/11/18850952.php
DTSTART:20220714T020000Z
DTEND:20220714T033000Z
END:VEVENT
END:VCALENDAR
