BEGIN:VCALENDAR
VERSION:2.0
X-WR-CALNAME:www.indybay.org
PRODID:-//indybay/ical// v1.0//EN
BEGIN:VEVENT
UID:Indybay-18850885
SEQUENCE:19013119
CREATED:20220705T182600Z
DESCRIPTION:Please join us for a conversation with and a reading of book excerpts by 
 the book author, Nadine Sayegh, who is an Austrian Palestinian with Jaffa 
 roots.\n\n"Oranges from Jaffa" is a family history, a novel against 
 oblivion. The book presents the coming of age story of Nicolas Sayegh, a 
 Palestinian Tom-Sawyer-type, who, together with his friends, roams the 
 sun-drenched neighborhood streets of Jaffa in 1947 – an ancient 
 Palestinian city, the commercial capital of Palestine at the time, fragrant 
 with the smell of orange blossoms.\n\nWays to help Palestinians:\n1) Sign 
 the following:\n      
 https://actionnetwork.org/letters/congress-urge-israel-to-free-ahmad-manasra?link_id=0&can_id=918b09c97a91324f5f12e35bc85f32d9&source=email-alert-27-homes-road-in-palestinian-al-aqaba-at-risk-email-congress-now&email_referrer=email_1584797&email_subject=alert-heartbreaking-illegal-decision-contact-congress-now-to-free-ahmad\n 
       \n     
 https://action.sumofus.org/en/a/paypal-stop-discriminating-against-palestinians?sp_ref=772035514.99.176208.e.0.2&referring_akid=107071.16341133.OhWp6y&referring_source=fwd&source=mlt 
     \n\n     
 https://act.newmode.net/action/aroc/sf-library-censors-palestine\n   \n     
 https://palestine.salsalabs.org/suspendallusaidtoisrael/index.html?eType=EmailBlastContent&eId=6345228c-829a-455a-8830-27686ab7fb68 
    \n\n      https://www.notechforapartheid.com/\n\n     
 https://nwttac.dci-palestine.org/contact_your_lawmaker_about_hr_2590?utm_campaign=may_14_gaza_update_nwttac&utm_medium=email&utm_source=dcipalestine&emci=898aaa6a-50ba-eb11-a7ad-501ac57b8fa7&emdi=720e95c4-78ba-eb11-a7ad-501ac57b8fa7&ceid=13259655#/ 
      \n     \n     
 https://ampalestine.salsalabs.org/sanctionisrael/index.html\n\n     
 https://www.gazaunlocked.org/act2019MELPA\n\n     
 https://secure.everyaction.com/1bUDFJrq_kWz5sjKEeyoPQ2?emci=5d4149d1-36af-eb11-85aa-0050f237abef&emdi=48af3b35-3eb3-eb11-a7ad-0050f271b5d8&ceid=1631053 
        \n\n     
 http://nwttac.dci-palestine.org/petition_end_solitary_confinement?recruiter_id=219146\n\n 
      https://defundracism.org/      \n\n2) Call your US House 
 Representative (202-225-3121) and tell them to cosponsor HR2590, The 
 Palestinian Children & Families Act, so that Israel cannot use US funds to 
 imprison and torture Palestinian children.\n\n3) Learn more about Palestine 
 at:\n     - American Muslims for Palestine (AMP)\n     - US Campaign for 
 Palestinian Rights (USCPR)\n     - Rebuilding Alliance\n     - Adalah 
 Justice Project\n     - Eyewitness Palestine\n     - Grassroots Al-Quds\n   
   - BDS Movement\n     - Middle East Children's Alliance (MECA)\n     - 
 Palestinian American Medical Association (PAMA)\n     - We Are Not 
 Numbers\n     - teachpalestine.org \n     - decolonizepalestine.com \n     
 - gazaincontext.com \n     - palambassador.org\n     - 
 palestinianyouthmovement.com/sheikh-jarrah\n     - 
 https://www.gazaunlocked.org/\n     - 
 https://interactive.aljazeera.com/aje/PalestineRemix/\n\n4) Read the 
 following books:\n    - Palestine...it is something colonial by Dr. Hatem 
 Bazian\n    - Palestine: A Four Thousand Year History by Nur Masalha\n\n5) 
 Watch the following films:\n   - "1948: Creation & Catastrophe" at 
 https://www.1948movie.com/ \n   - "The Price of Oslo" \n       Episode 1: 
 https://www.youtube.com/watch?v=ism-ctaSbw0  \n        Episode 2: 
 https://www.youtube.com/watch?v=TgFWEVQTeHM\n   - "Gaza Fights for Freedom" 
 at https://www.youtube.com/watch?v=HnZSaKYmP2s\n\n   6) Boycott HP, PUMA, 
 Sabra, SodaStream, ZARA, AHAVA, and Airbnb\n 
 https://www.indybay.org/newsitems/2022/07/05/18850885.php
SUMMARY:Virtual Book Launch Event - "Oranges from Jaffa" by Nadine Sayegh
LOCATION:Zoom
URL:https://www.indybay.org/newsitems/2022/07/05/18850885.php
DTSTART:20220710T160000Z
DTEND:20220710T170000Z
END:VEVENT
END:VCALENDAR
