BEGIN:VCALENDAR
VERSION:2.0
X-WR-CALNAME:www.indybay.org
PRODID:-//indybay/ical// v1.0//EN
BEGIN:VEVENT
UID:Indybay-18850858
SEQUENCE:19013052
CREATED:20220704T165000Z
DESCRIPTION:The Russian invasion of Ukraine has sparked a war that has raged for 
 months. As the US and Russia vie for supremacy in the conflcit, this war 
 could drag on for years. Every week there is another provocation and the US 
 has already pledged over $50 billion to prolong this war, at a time of 
 global economic crisis where people here and across the globe are facing 
 rising costs of fuel and food. \nRather than fight for the well-being of 
 average Americans, this government chooses to line the pockets of weapon 
 manufacturers and look out for their own geopolitical and military 
 interests. In this panel we ask: What are the implications of the Ukraine 
 War on the world and the working class, and what can working people of the 
 US do to turn this tide of death and destruction?\n 
 https://www.indybay.org/newsitems/2022/07/04/18850858.php
SUMMARY:The War in Ukraine: What we can do to oppose US and NATO escalation
LOCATION:Oakland Library - Temescal branch\n5205 Telegraph Ave, Oakland, CA 94609
URL:https://www.indybay.org/newsitems/2022/07/04/18850858.php
DTSTART:20220714T010000Z
DTEND:20220714T023000Z
END:VEVENT
END:VCALENDAR
