BEGIN:VCALENDAR
VERSION:2.0
X-WR-CALNAME:www.indybay.org
PRODID:-//indybay/ical// v1.0//EN
BEGIN:VEVENT
UID:Indybay-18850661
SEQUENCE:19012748
CREATED:20220624T233400Z
DESCRIPTION:Emergency Action in defense of Abortion Rights!\n\nWhen the Supreme Court 
 rolls back our rights to reproductive health care, we will be there to 
 fight back!\n\nLegalize abortion!\nFreedom of choice!\n\n 
 https://www.indybay.org/newsitems/2022/06/24/18850661.php
SUMMARY:San José Emergency Action: Defend Abortion Rights!
LOCATION:San José City Hall\n200 East Santa Clara Street\nSan José, CA 95113
URL:https://www.indybay.org/newsitems/2022/06/24/18850661.php
DTSTART:20220625T013000Z
DTEND:20220625T030000Z
END:VEVENT
END:VCALENDAR
