BEGIN:VCALENDAR
VERSION:2.0
X-WR-CALNAME:www.indybay.org
PRODID:-//indybay/ical// v1.0//EN
BEGIN:VEVENT
UID:Indybay-18850631
SEQUENCE:19012688
CREATED:20220622T231700Z
DESCRIPTION:Another horse was tragically killed at Golden Gate Fields. Join us to honor 
 Resurrected Noble, killed on June 17th, and all the other horses who are 
 exploited and killed at Golden Gate Fields.\nWe will meet at 420 Gilman 
 Street at 1:00pm to protest. Following the protest, some of us will be 
 running or walking a 5k around Golden Gate Fields.\n--\nDirect Action 
 Everywhere (DxE) is a grassroots network of animal rights activists. 
 Through open rescue, demonstration, and disruption, we are creating a world 
 where every animal is safe, happy and free. DxE cultivates a welcoming and 
 supportive community. We ask that all those who attend our events (online 
 and offline) respect our Code of Conduct which can be reviewed at 
 dxe.io/conduct.\nTo learn about our vision, goals, strategy and more check 
 out the San Francisco Bay Area chapter Activist Handbook here: 
 dxe.io/handbook. If you have any questions or concerns, please e-mail 
 sfbay-protest@directactioneverywhere.com\n 
 https://www.indybay.org/newsitems/2022/06/22/18850631.php
SUMMARY:Shut Down Golden Gate Fields: No More Dead Horses
LOCATION:420 Gilman St, Berkeley, CA 94710
URL:https://www.indybay.org/newsitems/2022/06/22/18850631.php
DTSTART:20220625T200000Z
DTEND:20220625T213000Z
END:VEVENT
END:VCALENDAR
